BEGIN:VCALENDAR
PRODID:-//hacksw/handcal//NONSGML v1.0//EN
VERSION:2.0
METHOD:PUBLISH
BEGIN:VEVENT
DTSTART:20260609T154500Z
DTEND:20260609T173000Z
LOCATION:Hyannisport Club
UID:2847420260609T154500ZEPCCC Annual Meeting, Presentation & Golf
DTSTAMP:20260421T110758Z
DESCRIPTION:\n\nPlease join us for our Annual Meeting. \n\nAI in the Workplace: Opportunities, Risks, & Realities\n\n\nWe are proud to welcome our guest speaker Patricia Allen. Patricia is an Associate Professor of English at Cape Cod Community College, where she teaches writing and literature and serves as co-coordinator of the Teaching and Learning Center. She earned an A.A. in Liberal Arts from the college, a B.A. from Wellesley College, and an M.Ed. in Language and Literacy from Harvard University. \n\nHer academic interests include brain-based pedagogy, equity in higher education, and the use of educational technologyâparticularly artificial intelligenceâin teaching and learning.  \n\nUpon registration please note your interest in golfing with our group after the luncheon and presentation. \n
SUMMARY:EPCCC Annual Meeting, Presentation & Golf - Estate Planning Council of Cape Cod 
PRIORITY:3
BEGIN:VALARM
TRIGGER:PT18H
ACTION:DISPLAY
DESCRIPTION:Reminder
END:VALARM
END:VEVENT
END:VCALENDAR